BEGIN:VCALENDAR
VERSION:2.0
PRODID:-//BC Rising - ECPv6.15.16//NONSGML v1.0//EN
CALSCALE:GREGORIAN
METHOD:PUBLISH
X-WR-CALNAME:BC Rising
X-ORIGINAL-URL:https://bcrising.ca
X-WR-CALDESC:Events for BC Rising
REFRESH-INTERVAL;VALUE=DURATION:PT1H
X-Robots-Tag:noindex
X-PUBLISHED-TTL:PT1H
BEGIN:VTIMEZONE
TZID:America/Vancouver
BEGIN:DAYLIGHT
TZOFFSETFROM:-0800
TZOFFSETTO:-0700
TZNAME:PDT
DTSTART:20250309T100000
END:DAYLIGHT
BEGIN:STANDARD
TZOFFSETFROM:-0700
TZOFFSETTO:-0800
TZNAME:PST
DTSTART:20251102T090000
END:STANDARD
BEGIN:DAYLIGHT
TZOFFSETFROM:-0800
TZOFFSETTO:-0700
TZNAME:PDT
DTSTART:20260308T100000
END:DAYLIGHT
BEGIN:STANDARD
TZOFFSETFROM:-0700
TZOFFSETTO:-0800
TZNAME:PST
DTSTART:20261101T090000
END:STANDARD
BEGIN:DAYLIGHT
TZOFFSETFROM:-0800
TZOFFSETTO:-0700
TZNAME:PDT
DTSTART:20270314T100000
END:DAYLIGHT
BEGIN:STANDARD
TZOFFSETFROM:-0700
TZOFFSETTO:-0800
TZNAME:PST
DTSTART:20271107T090000
END:STANDARD
END:VTIMEZONE
BEGIN:VEVENT
DTSTART;TZID=America/Vancouver:20260429T193000
DTEND;TZID=America/Vancouver:20260429T204500
DTSTAMP:20260425T052112
CREATED:20260415T202240Z
LAST-MODIFIED:20260415T202240Z
UID:35933-1777491000-1777495500@bcrising.ca
SUMMARY:BC Rising Meeting
DESCRIPTION:BC Rising Meeting \nEveryone welcome – share broadly across BC! \nTime: 7:30 – 8:45 p.m. PST \nPre-register: Via Zoom HERE  or  Tinyurl.com/BCRising \nSubscribe to BC Rising to connect with your community and receive important updates and meeting invites. \nHave an idea\, event\, workshop\, action or campaign to share? Contact the BC Rising team HERE
URL:https://bcrising.ca/event/bc-rising-meeting-58/
CATEGORIES:BC Rising
ORGANIZER;CN="BC Rising":MAILTO:info@BCRising@protonmail.com
END:VEVENT
BEGIN:VEVENT
DTSTART;TZID=America/Vancouver:20260501T090000
DTEND;TZID=America/Vancouver:20260501T110000
DTSTAMP:20260425T052112
CREATED:20260415T203435Z
LAST-MODIFIED:20260415T203435Z
UID:35948-1777626000-1777633200@bcrising.ca
SUMMARY:Freedom Rising Meeting
DESCRIPTION:Freedom Rising Meeting \nMeetings take place every Friday – everyone welcome! \nFacilitated by Ted Kuntz \nFreedom Rising is a collaboration of leaders from across Canada and beyond who are dedicated to restoring our rights and freedoms. For over two years\, Freedom Rising has had weekly leadership meetings that have provided opportunities for collaboration & unity between organizations\, groups and individuals. \nFreedom Rising’s goal is to build alliances\, amplify initiatives\, avoid duplication and create space for individuals\, groups and organizations to feel supported and inspired. \nMeeting link HERE \nVisit Freedom Rising for more events\, meetings and workshops Canada-wide.
URL:https://bcrising.ca/event/freedom-rising-meeting-46/
CATEGORIES:Freedom Rising
ATTACH;FMTTYPE=image/jpeg:https://bcrising.ca/wp-content/uploads/2025/11/clear-rallies-bc-768x384-1.jpg
END:VEVENT
BEGIN:VEVENT
DTSTART;TZID=America/Vancouver:20260508T090000
DTEND;TZID=America/Vancouver:20260508T110000
DTSTAMP:20260425T052112
CREATED:20260415T203546Z
LAST-MODIFIED:20260415T203546Z
UID:35950-1778230800-1778238000@bcrising.ca
SUMMARY:Freedom Rising Meeting
DESCRIPTION:Freedom Rising Meeting \nMeetings take place every Friday – everyone welcome! \nFacilitated by Ted Kuntz \nFreedom Rising is a collaboration of leaders from across Canada and beyond who are dedicated to restoring our rights and freedoms. For over two years\, Freedom Rising has had weekly leadership meetings that have provided opportunities for collaboration & unity between organizations\, groups and individuals. \nFreedom Rising’s goal is to build alliances\, amplify initiatives\, avoid duplication and create space for individuals\, groups and organizations to feel supported and inspired. \nMeeting link HERE \nVisit Freedom Rising for more events\, meetings and workshops Canada-wide.
URL:https://bcrising.ca/event/freedom-rising-meeting-47/
CATEGORIES:Freedom Rising
ATTACH;FMTTYPE=image/jpeg:https://bcrising.ca/wp-content/uploads/2025/11/clear-rallies-bc-768x384-1.jpg
END:VEVENT
BEGIN:VEVENT
DTSTART;TZID=America/Vancouver:20260513T193000
DTEND;TZID=America/Vancouver:20260513T204500
DTSTAMP:20260425T052112
CREATED:20260415T202403Z
LAST-MODIFIED:20260415T202403Z
UID:35935-1778700600-1778705100@bcrising.ca
SUMMARY:BC Rising Meeting
DESCRIPTION:BC Rising Meeting \nEveryone welcome – share broadly across BC! \nTime: 7:30 – 8:45 p.m. PST \nPre-register: Via Zoom HERE  or  Tinyurl.com/BCRising \nSubscribe to BC Rising to connect with your community and receive important updates and meeting invites. \nHave an idea\, event\, workshop\, action or campaign to share? Contact the BC Rising team HERE
URL:https://bcrising.ca/event/bc-rising-meeting-60/
CATEGORIES:BC Rising
ORGANIZER;CN="BC Rising":MAILTO:info@BCRising@protonmail.com
END:VEVENT
BEGIN:VEVENT
DTSTART;TZID=America/Vancouver:20260515T090000
DTEND;TZID=America/Vancouver:20260515T110000
DTSTAMP:20260425T052112
CREATED:20260415T203649Z
LAST-MODIFIED:20260415T203649Z
UID:35952-1778835600-1778842800@bcrising.ca
SUMMARY:Freedom Rising Meeting
DESCRIPTION:Freedom Rising Meeting \nMeetings take place every Friday – everyone welcome! \nFacilitated by Ted Kuntz \nFreedom Rising is a collaboration of leaders from across Canada and beyond who are dedicated to restoring our rights and freedoms. For over two years\, Freedom Rising has had weekly leadership meetings that have provided opportunities for collaboration & unity between organizations\, groups and individuals. \nFreedom Rising’s goal is to build alliances\, amplify initiatives\, avoid duplication and create space for individuals\, groups and organizations to feel supported and inspired. \nMeeting link HERE \nVisit Freedom Rising for more events\, meetings and workshops Canada-wide.
URL:https://bcrising.ca/event/freedom-rising-meeting-48/
CATEGORIES:Freedom Rising
ATTACH;FMTTYPE=image/jpeg:https://bcrising.ca/wp-content/uploads/2025/11/clear-rallies-bc-768x384-1.jpg
END:VEVENT
BEGIN:VEVENT
DTSTART;TZID=America/Vancouver:20260522T090000
DTEND;TZID=America/Vancouver:20260522T110000
DTSTAMP:20260425T052112
CREATED:20260415T203759Z
LAST-MODIFIED:20260415T203759Z
UID:35954-1779440400-1779447600@bcrising.ca
SUMMARY:Freedom Rising Meeting
DESCRIPTION:Freedom Rising Meeting \nMeetings take place every Friday – everyone welcome! \nFacilitated by Ted Kuntz \nFreedom Rising is a collaboration of leaders from across Canada and beyond who are dedicated to restoring our rights and freedoms. For over two years\, Freedom Rising has had weekly leadership meetings that have provided opportunities for collaboration & unity between organizations\, groups and individuals. \nFreedom Rising’s goal is to build alliances\, amplify initiatives\, avoid duplication and create space for individuals\, groups and organizations to feel supported and inspired. \nMeeting link HERE \nVisit Freedom Rising for more events\, meetings and workshops Canada-wide.
URL:https://bcrising.ca/event/freedom-rising-meeting-49/
CATEGORIES:Freedom Rising
ATTACH;FMTTYPE=image/jpeg:https://bcrising.ca/wp-content/uploads/2025/11/clear-rallies-bc-768x384-1.jpg
END:VEVENT
BEGIN:VEVENT
DTSTART;TZID=America/Vancouver:20260527T193000
DTEND;TZID=America/Vancouver:20260527T204500
DTSTAMP:20260425T052112
CREATED:20260415T202521Z
LAST-MODIFIED:20260415T202521Z
UID:35937-1779910200-1779914700@bcrising.ca
SUMMARY:BC Rising Meeting
DESCRIPTION:BC Rising Meeting \nEveryone welcome – share broadly across BC! \nTime: 7:30 – 8:45 p.m. PST \nPre-register: Via Zoom HERE  or  Tinyurl.com/BCRising \nSubscribe to BC Rising to connect with your community and receive important updates and meeting invites. \nHave an idea\, event\, workshop\, action or campaign to share? Contact the BC Rising team HERE
URL:https://bcrising.ca/event/bc-rising-meeting-61/
CATEGORIES:BC Rising
ORGANIZER;CN="BC Rising":MAILTO:info@BCRising@protonmail.com
END:VEVENT
BEGIN:VEVENT
DTSTART;TZID=America/Vancouver:20260529T090000
DTEND;TZID=America/Vancouver:20260529T110000
DTSTAMP:20260425T052112
CREATED:20260415T203915Z
LAST-MODIFIED:20260415T203915Z
UID:35957-1780045200-1780052400@bcrising.ca
SUMMARY:Freedom Rising Meeting
DESCRIPTION:Freedom Rising Meeting \nMeetings take place every Friday – everyone welcome! \nFacilitated by Ted Kuntz \nFreedom Rising is a collaboration of leaders from across Canada and beyond who are dedicated to restoring our rights and freedoms. For over two years\, Freedom Rising has had weekly leadership meetings that have provided opportunities for collaboration & unity between organizations\, groups and individuals. \nFreedom Rising’s goal is to build alliances\, amplify initiatives\, avoid duplication and create space for individuals\, groups and organizations to feel supported and inspired. \nMeeting link HERE \nVisit Freedom Rising for more events\, meetings and workshops Canada-wide.
URL:https://bcrising.ca/event/freedom-rising-meeting-50/
CATEGORIES:Freedom Rising
ATTACH;FMTTYPE=image/jpeg:https://bcrising.ca/wp-content/uploads/2025/11/clear-rallies-bc-768x384-1.jpg
END:VEVENT
BEGIN:VEVENT
DTSTART;TZID=America/Vancouver:20260610T193000
DTEND;TZID=America/Vancouver:20260610T204500
DTSTAMP:20260425T052112
CREATED:20260415T202756Z
LAST-MODIFIED:20260415T202756Z
UID:35940-1781119800-1781124300@bcrising.ca
SUMMARY:BC Rising Meeting
DESCRIPTION:BC Rising Meeting \nEveryone welcome – share broadly across BC! \nTime: 7:30 – 8:45 p.m. PST \nPre-register: Via Zoom HERE  or  Tinyurl.com/BCRising \nSubscribe to BC Rising to connect with your community and receive important updates and meeting invites. \nHave an idea\, event\, workshop\, action or campaign to share? Contact the BC Rising team HERE
URL:https://bcrising.ca/event/bc-rising-meeting-62/
CATEGORIES:BC Rising
ORGANIZER;CN="BC Rising":MAILTO:info@BCRising@protonmail.com
END:VEVENT
BEGIN:VEVENT
DTSTART;TZID=America/Vancouver:20260624T193000
DTEND;TZID=America/Vancouver:20260624T204500
DTSTAMP:20260425T052112
CREATED:20260415T202928Z
LAST-MODIFIED:20260415T202928Z
UID:35942-1782329400-1782333900@bcrising.ca
SUMMARY:BC Rising Meeting
DESCRIPTION:BC Rising Meeting \nEveryone welcome – share broadly across BC! \nTime: 7:30 – 8:45 p.m. PST \nPre-register: Via Zoom HERE  or  Tinyurl.com/BCRising \nSubscribe to BC Rising to connect with your community and receive important updates and meeting invites. \nHave an idea\, event\, workshop\, action or campaign to share? Contact the BC Rising team HERE
URL:https://bcrising.ca/event/bc-rising-meeting-63/
CATEGORIES:BC Rising
ORGANIZER;CN="BC Rising":MAILTO:info@BCRising@protonmail.com
END:VEVENT
END:VCALENDAR